BEGIN:VCALENDAR
VERSION:2.0
PRODID:-//Squarespace Inc/Squarespace 6//v6//EN
BEGIN:VEVENT
UID:5ba0b1328a922d20cd8eff3e@squarespace.com
DTSTAMP:20180918T082256Z
DTSTART:20181016T060000Z
DTEND:20181016T073000Z
SUMMARY:Suicide Bereavement Support
GEO:-45.86375;170.341695
LOCATION:Mosgiel AMI\, 122 Gordon Road\, Mosgiel\, OTA\, 9024\, New Zealand
END:VEVENT
END:VCALENDAR
