BEGIN:VCALENDAR
VERSION:2.0
PRODID:-//Squarespace Inc/Squarespace 6//v6//EN
BEGIN:VEVENT
UID:5d4ab9ed8da3b90001ffe3aa@squarespace.com
DTSTAMP:20190807T114825Z
DTSTART:20191217T060000Z
DTEND:20191217T073000Z
SUMMARY:Bereavement Support Group
GEO:-45.87549;170.348188
LOCATION:Mosgiel AMI\, 122 Gordon Road\, Mosgiel\, OTA\, 9024\, New Zealand
END:VEVENT
END:VCALENDAR
