BEGIN:VCALENDAR
VERSION:2.0
PRODID:-//Squarespace Inc/Squarespace 6//v6//EN
BEGIN:VEVENT
UID:5c3c32ae88251b8b3c75b231@squarespace.com
DTSTAMP:20190520T104307Z
DTSTART:20190219T060000Z
DTEND:20190219T073000Z
SUMMARY:Bereavement Support Group
GEO:-45.875481;170.348229
LOCATION:Mosgiel AMI\, 122 Gordon Road\, Mosgiel\, New Zealand
END:VEVENT
END:VCALENDAR
