BEGIN:VCALENDAR
VERSION:2.0
PRODID:-//Squarespace Inc/Squarespace 6//v6//EN
BEGIN:VEVENT
UID:5c3c33310e2e72aee0f7ce9f@squarespace.com
DTSTAMP:20190520T104355Z
DTSTART:20190312T060000Z
DTEND:20190312T073000Z
SUMMARY:Bereavement Support Group
GEO:40.720756;-74.000761
LOCATION:Mosgiel AMI\, 122 Gordon Road\, Mosgiel\, New Zealand
END:VEVENT
END:VCALENDAR
