BEGIN:VCALENDAR
VERSION:2.0
PRODID:-//Squarespace Inc/Squarespace 6//v6//EN
BEGIN:VEVENT
UID:5d4ab2cae81d3a00018928bd@squarespace.com
DTSTAMP:20190807T112716Z
DTSTART:20190820T070000Z
DTEND:20190820T083000Z
SUMMARY:Bereavement Support Group
GEO:-45.87549;170.348188
LOCATION:Mosgiel AMI\, 122 Gordon Road\, Mosgiel\, OTA\, 9024\, New Zealand
END:VEVENT
END:VCALENDAR
