BEGIN:VCALENDAR
VERSION:2.0
PRODID:-//Squarespace Inc/Squarespace 6//v6//EN
BEGIN:VEVENT
UID:5e32173adca2b3342633a96d@squarespace.com
DTSTAMP:20200201T172103Z
DTSTART:20200227T043000Z
DTEND:20200227T083000Z
SUMMARY:SafeTALK Workshop 
GEO:-45.871899;170.34761
LOCATION:ST Johns Mosgiel\, 5 Hartstonge Avenue\, Mosgiel\, OTA\, 9024\, Ne
 w Zealand
END:VEVENT
END:VCALENDAR
