BEGIN:VCALENDAR
VERSION:2.0
PRODID:-//Squarespace Inc/Squarespace 6//v6//EN
BEGIN:VEVENT
UID:5d5698241a16f400012bd62d@squarespace.com
DTSTAMP:20190816T115018Z
DTSTART:20190913T060000Z
DTEND:20190913T093000Z
SUMMARY:SafeTALK Workshop
GEO:-45.871758;170.348279
LOCATION:Downes Room\, 7 Hartstonge Avenue\, Mosgiel\, OTA\, 9024\, New Zea
 land
END:VEVENT
END:VCALENDAR
