BEGIN:VCALENDAR
VERSION:2.0
PRODID:-//Squarespace Inc/Squarespace 6//v6//EN
BEGIN:VEVENT
UID:5e3210f7c45bd22f78f9c4a5@squarespace.com
DTSTAMP:20200201T172018Z
DTSTART:20200220T060000Z
DTEND:20200220T073000Z
SUMMARY:Bereavement Support Group
GEO:-45.871899;170.34761
LOCATION:ST Johns Mosgiel\, 5 Hartstonge Avenue\, Mosgiel\, OTA\, 9024\, Ne
 w Zealand
END:VEVENT
END:VCALENDAR
